BEGIN:VCALENDAR
VERSION:2.0
PRODID:-//Library Market//iCal Export//EN
BEGIN:VEVENT
SUMMARY:AARP Defensive Driving - June 9
UID:16237
DTSTAMP:20260420T133900Z
DTSTART:20260609T133000Z
DTEND:20260609T203000Z
LOCATION:Levittown Public Library, 1 Bluegrass Lane, Levittown, NY 11756, 
 United States
ROOM: Community Room A &amp; B
DESCRIPTION:Single person registration.Please call the Reference Desk if y
 ou need assistance in registering for this program. 516-731-5728 ext 506.L
 UFSD residents can register starting . Please have your library card numbe
 r on hand.Non-Residents may waitlisted until 7 days before the class.$25 p
 er person for AARP members.$30 per person for non-AARP members.This is a 6
 -hour course for licensed drivers. Check or money order made payable to AA
 RP must be brought to our Reference Desk no later than 3 days before the c
 ourse to secure your seat. Everyone must bring a driver&#039;s license. AA
 RP members must bring their membership card. 
URL:https://levittown.librarycalendar.com/event/aarp-defensive-driving-jun
 e-9-16237
END:VEVENT
END:VCALENDAR
