BEGIN:VCALENDAR
VERSION:2.0
PRODID:-//Library Market//iCal Export//EN
BEGIN:VEVENT
SUMMARY:Current Events
UID:16494
DTSTAMP:20260425T015600Z
DTSTART:20260512T170000Z
DTEND:20260512T183000Z
LOCATION:Levittown Public Library, 1 Bluegrass Lane, Levittown, NY 11756, 
 United States
ROOM: Innovation Station
DESCRIPTION:Jack Bilello will summarize current world issues for discussio
 n in an open forum.
URL:https://levittown.librarycalendar.com/event/current-events-16494
END:VEVENT
END:VCALENDAR
