BEGIN:VCALENDAR
VERSION:2.0
PRODID:-//Library Market//iCal Export//EN
BEGIN:VEVENT
SUMMARY:Together in the Kitchen Take &amp; Make
UID:19380
DTSTAMP:20260425T230900Z
DTSTART:20260609T160000Z
DTEND:20260610T010000Z
LOCATION:Levittown Public Library, 1 Bluegrass Lane, Levittown, NY 11756, 
 United States
ROOM: Take &amp; Make Children&#039;s
DESCRIPTION:Grades Preschool-5.Registration begins Tuesday, June 9, 12:00 
 PM.Be creative while putting your chef skills to work in the comfort of yo
 ur own home. Use this kit together to make a yummy treat. Kit must be pick
 ed up by Tuesday, June 16.
URL:https://levittown.librarycalendar.com/event/together-kitchen-take-make
 -19380
END:VEVENT
END:VCALENDAR
