BEGIN:VCALENDAR
VERSION:2.0
PRODID:-//Library Market//iCal Export//EN
BEGIN:VEVENT
SUMMARY:Love Letters For Literacy
UID:20945
DTSTAMP:20260420T133900Z
DTSTART:20260617T223000Z
DTEND:20260617T233000Z
LOCATION:Levittown Public Library, 1 Bluegrass Lane, Levittown, NY 11756, 
 United States
ROOM: Teen Room
DESCRIPTION:Create literacy packets for preschoolers. Earn 1 hour of commu
 nity service.  
URL:https://levittown.librarycalendar.com/event/love-letters-literacy-2094
 5
END:VEVENT
END:VCALENDAR
