BEGIN:VCALENDAR
VERSION:2.0
PRODID:-//Library Market//iCal Export//EN
BEGIN:VEVENT
SUMMARY:Switch it Up
UID:20962
DTSTAMP:20260420T120700Z
DTSTART:20260612T223000Z
DTEND:20260613T000000Z
LOCATION:Levittown Public Library, 1 Bluegrass Lane, Levittown, NY 11756, 
 United States
ROOM: Teen Round Room
DESCRIPTION:Chill out and play some Nintendo Switch games. 
URL:https://levittown.librarycalendar.com/event/hold-teen-20962
END:VEVENT
END:VCALENDAR
