BEGIN:VCALENDAR
VERSION:2.0
PRODID:-//Library Market//iCal Export//EN
BEGIN:VEVENT
SUMMARY:Teen Summer Reading Kickoff: Candy Bingo Bonanza
UID:20963
DTSTAMP:20260419T210600Z
DTSTART:20260629T183000Z
DTEND:20260629T193000Z
LOCATION:Levittown Public Library, 1 Bluegrass Lane, Levittown, NY 11756, 
 United States
ROOM: Community Room A &amp; B
DESCRIPTION:Enjoy an exciting BINGO game to win candy bundles–including 
 full-size bars! Register for the Teen Summer Reading Program as well. 
URL:https://levittown.librarycalendar.com/event/hold-teen-20963
END:VEVENT
END:VCALENDAR
