BEGIN:VCALENDAR
VERSION:2.0
PRODID:-//Library Market//iCal Export//EN
BEGIN:VEVENT
SUMMARY:Bubble Science
UID:21262
DTSTAMP:20260421T023300Z
DTSTART:20260706T183000Z
DTEND:20260706T193000Z
LOCATION:Levittown Public Library, 1 Bluegrass Lane, Levittown, NY 11756, 
 United States
ROOM: Fenced Area
DESCRIPTION:Try to build the strongest bubble while learning about the sci
 ence of bubbles.
URL:https://levittown.librarycalendar.com/event/bubble-science-21262
END:VEVENT
END:VCALENDAR
