BEGIN:VCALENDAR
VERSION:2.0
PRODID:-//Library Market//iCal Export//EN
BEGIN:VEVENT
SUMMARY:Confetti Popper Take &amp; Make
UID:24307
DTSTAMP:20260425T115300Z
DTSTART:20260611T160000Z
DTEND:20260612T010000Z
LOCATION:Levittown Public Library, 1 Bluegrass Lane, Levittown, NY 11756, 
 United States
ROOM: Take &amp; Make Children&#039;s
DESCRIPTION:Grades Preschool-5.Registration begins Thursday, June 11, 12:0
 0 PM.Celebrate the 4th of July with this confetti popper! Kit must be pic
 ked up by Thursday, June 18.
URL:https://levittown.librarycalendar.com/event/confetti-popper-take-make-
 24307
END:VEVENT
END:VCALENDAR
