BEGIN:VCALENDAR
VERSION:2.0
PRODID:-//Library Market//iCal Export//EN
BEGIN:VEVENT
SUMMARY:Chocolate Mousse Cup (Session 1)
UID:24311
DTSTAMP:20260425T015600Z
DTSTART:20260529T220000Z
DTEND:20260529T224500Z
LOCATION:Levittown Public Library, 1 Bluegrass Lane, Levittown, NY 11756, 
 United States
ROOM: Innovation Station
DESCRIPTION:Grades K-5.Friday, May 29, 6:00 PM.Click here to register for 
 the 7:00 PM Session instead.Registration begins Friday, May 22, 6:00 PM.Ma
 ke a delicious cup of chocolate mousse.
URL:https://levittown.librarycalendar.com/event/chocolate-mousse-cups-sess
 ion-1-24311
END:VEVENT
END:VCALENDAR
