BEGIN:VCALENDAR
VERSION:2.0
PRODID:-//Library Market//iCal Export//EN
BEGIN:VEVENT
SUMMARY:1,2,3 Play With Me
UID:24523
DTSTAMP:20260426T034700Z
DTSTART:20260521T140000Z
DTEND:20260521T150000Z
LOCATION:Levittown Public Library, 1 Bluegrass Lane, Levittown, NY 11756, 
 United States
ROOM: Community Room A &amp; B
DESCRIPTION:1-3 years old, with one adult.Thursdays, May 21, 28, &amp; Jun
 e 4, 11, 10:00 AM.Registration begins Thursday, May 14, 12:00 PM.Play and 
 explore a variety of toys and interactive activities while mingling with o
 ur resource professionals.
URL:https://levittown.librarycalendar.com/event/123-play-me-24523
END:VEVENT
END:VCALENDAR
