BEGIN:VCALENDAR
VERSION:2.0
PRODID:-//Library Market//iCal Export//EN
BEGIN:VEVENT
SUMMARY:Sensory Play
UID:24570
DTSTAMP:20260424T162900Z
DTSTART:20260613T140000Z
DTEND:20260613T150000Z
LOCATION:Levittown Public Library, 1 Bluegrass Lane, Levittown, NY 11756, 
 United States
ROOM: Community Room A &amp; B
DESCRIPTION:2-6 years old, with one adult. Saturday, June 13, 10:00 AM.Re
 gistration begins Saturday, June 6, 12:00 PM.Join us for a fun dino themed
  sensory open play with a licensed Board-Certified Behavior Analyst. 
URL:https://levittown.librarycalendar.com/event/hold-sensory-playtime-2457
 0
END:VEVENT
END:VCALENDAR
