BEGIN:VCALENDAR
VERSION:2.0
PRODID:-//Library Market//iCal Export//EN
BEGIN:VEVENT
SUMMARY:Derby Car Session 2
UID:24581
DTSTAMP:20260426T034700Z
DTSTART:20260610T230000Z
DTEND:20260610T234500Z
LOCATION:Levittown Public Library, 1 Bluegrass Lane, Levittown, NY 11756, 
 United States
ROOM: Community Room A &amp; B
DESCRIPTION:Grades K-5.Wednesday, June 10, 7:00 PM.Click here to register 
 for the 5:30 PM session instead.Registration begins Wednesday, June 3, 6:0
 0 PM.Celebrate our 75th Anniversary by making your own &#039;50&#039;s tra
 ditional Derby car. 
URL:https://levittown.librarycalendar.com/event/pinewood-derby-session-2-2
 4581
END:VEVENT
END:VCALENDAR
