BEGIN:VCALENDAR
VERSION:2.0
PRODID:-//Library Market//iCal Export//EN
BEGIN:VEVENT
SUMMARY:Flower Market
UID:24613
DTSTAMP:20260424T162900Z
DTSTART:20260527T173000Z
DTEND:20260527T193000Z
LOCATION:Levittown Public Library, 1 Bluegrass Lane, Levittown, NY 11756, 
 United States
ROOM: Story Time Room
DESCRIPTION:Families with children Preschool-Grade 5.Wednesday, May 27, 1:
 30-3:30 PM.No registration needed.Visit our paper flower market! Select, c
 olor, and put together your paper bouquet. While supplies last.
URL:https://levittown.librarycalendar.com/event/flower-market-24613
END:VEVENT
END:VCALENDAR
