BEGIN:VCALENDAR
VERSION:2.0
PRODID:-//Library Market//iCal Export//EN
BEGIN:VEVENT
SUMMARY:The Wired Brain: Protecting Kids from the Digital World
UID:24614
DTSTAMP:20260423T173800Z
DTSTART:20260507T220000Z
DTEND:20260507T230000Z
LOCATION:Levittown Public Library, 1 Bluegrass Lane, Levittown, NY 11756, 
 United States
ROOM: Community Room A &amp; B
DESCRIPTION:Led by Nassau County Human Services, explore the risks of smar
 tphone, social media, and gaming use among adolescents and receive resourc
 es to reduce potential harm.  To reserve your spot, call Legislator Knigh
 t’s office at 516-571-6215.
URL:https://levittown.librarycalendar.com/event/wired-brain-program-24614
END:VEVENT
END:VCALENDAR
