BEGIN:VCALENDAR
VERSION:2.0
PRODID:-//Library Market//iCal Export//EN
BEGIN:VEVENT
SUMMARY:Jurassic Board (Session 1)
UID:24755
DTSTAMP:20260425T230900Z
DTSTART:20260612T213000Z
DTEND:20260612T221500Z
LOCATION:Levittown Public Library, 1 Bluegrass Lane, Levittown, NY 11756, 
 United States
ROOM: Innovation Station
DESCRIPTION:Grades K-5.Friday, June 12, 5:30 PM.Click here to register for
  the 7:00 PM Session instead.Registration begins Friday, June 5, 6:00 PM.H
 ave a roar-ing good time making your own dessert board!
URL:https://levittown.librarycalendar.com/event/jurassic-board-session-1-2
 4755
END:VEVENT
END:VCALENDAR
