BEGIN:VCALENDAR
VERSION:2.0
PRODID:-//Library Market//iCal Export//EN
BEGIN:VEVENT
SUMMARY:Full Steam Ahead
UID:24791
DTSTAMP:20260425T191300Z
DTSTART:20260509T140000Z
DTEND:20260509T160000Z
LOCATION:Levittown Public Library, 1 Bluegrass Lane, Levittown, NY 11756, 
 United States
ROOM: Community Room A &amp; B
DESCRIPTION:2-6 years, with one adult.Saturday May 9, 10:00 AM.Registratio
 n begins Saturday, May 2.A fun introduction to the exciting world of scien
 ce, technology, engineering, art, and math.
URL:https://levittown.librarycalendar.com/event/hold-time-kids-24791
END:VEVENT
END:VCALENDAR
