BEGIN:VCALENDAR
VERSION:2.0
PRODID:-//Library Market//iCal Export//EN
BEGIN:VEVENT
SUMMARY:Meet New York State Assemblyman John Mikulin
UID:24958
DTSTAMP:20260424T162900Z
DTSTART:20260501T210000Z
DTEND:20260501T220000Z
LOCATION:Levittown Public Library, 1 Bluegrass Lane, Levittown, NY 11756, 
 United States
ROOM: Rooms 1 &amp; 2
DESCRIPTION:No Registration Required.NYS Assemblyman John Mikulin will be 
 available to discuss state legislative initiatives and proposals and hear 
 what local and state issues are important to you.
URL:https://levittown.librarycalendar.com/event/meet-mikulin-24958
END:VEVENT
END:VCALENDAR
