BEGIN:VCALENDAR
VERSION:2.0
PRODID:-//Library Market//iCal Export//EN
BEGIN:VEVENT
SUMMARY:CPR/AED Certification
UID:25352
DTSTAMP:20260426T034700Z
DTSTART:20260519T220000Z
DTEND:20260520T003000Z
LOCATION:Levittown Public Library, 1 Bluegrass Lane, Levittown, NY 11756, 
 United States
ROOM: Community Room A &amp; B
DESCRIPTION:$55.00 fee per person.This infant/adult CPR/AED class will cer
 tify you for two years through the American Heart Association. Payment sh
 ould be a check or money order, made payable to the instructor, Paul Abate
 , and brought to the Reference Desk to secure your seat. Payment must be 
 made no later than five days prior to the program to secure your spot. 
URL:https://levittown.librarycalendar.com/event/cpraed-certification-25352
END:VEVENT
END:VCALENDAR
