BEGIN:VCALENDAR
VERSION:2.0
PRODID:-//Library Market//iCal Export//EN
BEGIN:VEVENT
SUMMARY:Beginner Sewing: Patriotic Drawstring Bag
UID:25450
DTSTAMP:20260420T120700Z
DTSTART:20260702T223000Z
DTEND:20260703T003000Z
LOCATION:Levittown Public Library, 1 Bluegrass Lane, Levittown, NY 11756, 
 United States
ROOM: Innovation Station
DESCRIPTION:Register up to 2 people. To add the 2nd spot, click the add a 
 seat button.Payment is due within 5 days of the class to secure your seat.
  If you are unable to register online, please call 516-731-5728 ext 211.M
 ake a patriotic drawstring bag. Basic sewing machine knowledge required.
URL:https://levittown.librarycalendar.com/event/sewing-25450
END:VEVENT
END:VCALENDAR
