BEGIN:VCALENDAR
VERSION:2.0
PRODID:-//Library Market//iCal Export//EN
BEGIN:VEVENT
SUMMARY:Create a 3D Model (Adult session)
UID:25575
DTSTAMP:20260424T162900Z
DTSTART:20260527T230000Z
DTEND:20260528T000000Z
LOCATION:Levittown Public Library, 1 Bluegrass Lane, Levittown, NY 11756, 
 United States
ROOM: Innovation Station
DESCRIPTION:Learn how to use Tinkercad software and create an original 3D 
 model. Basic computer knowledge required.
URL:https://levittown.librarycalendar.com/event/learn-3d-model-using-tinke
 rcad-adults-25575
END:VEVENT
END:VCALENDAR
