BEGIN:VCALENDAR
VERSION:2.0
PRODID:-//Library Market//iCal Export//EN
BEGIN:VEVENT
SUMMARY:Celebrate our 75th Anniversary (Session 2)
UID:25578
DTSTAMP:20260420T120700Z
DTSTART:20260610T230000Z
DTEND:20260611T000000Z
LOCATION:Levittown Public Library, 1 Bluegrass Lane, Levittown, NY 11756, 
 United States
ROOM: Innovation Station
DESCRIPTION:Decorate a ceramic mug to celebrate our 75th Anniversary.
URL:https://levittown.librarycalendar.com/event/75th-anniversary-mug-sessi
 on-2-25578
END:VEVENT
END:VCALENDAR
