BEGIN:VCALENDAR
VERSION:2.0
PRODID:-//Library Market//iCal Export//EN
BEGIN:VEVENT
SUMMARY:Robotics Challenge
UID:25579
DTSTAMP:20260423T173800Z
DTSTART:20260520T220000Z
DTEND:20260520T230000Z
LOCATION:Levittown Public Library, 1 Bluegrass Lane, Levittown, NY 11756, 
 United States
ROOM: Innovation Station
DESCRIPTION:Create a robot and complete a challenge.
URL:https://levittown.librarycalendar.com/event/lego-robotics-25579
END:VEVENT
END:VCALENDAR
