BEGIN:VCALENDAR
VERSION:2.0
PRODID:-//Library Market//iCal Export//EN
BEGIN:VEVENT
SUMMARY:Patriotic Dog Take and Make
UID:26378
DTSTAMP:20260425T015600Z
DTSTART:20260526T160000Z
DTEND:20260527T010000Z
LOCATION:Levittown Public Library, 1 Bluegrass Lane, Levittown, NY 11756, 
 United States
ROOM: Patriotic Dog Take and Make
DESCRIPTION:Grades Preschool-5.Registration begins Tuesday, May 26, 12:00 
 PM.Celebrate 250 years of America with this cute dog craft. Kit must be p
 icked up by Tuesday, June 2.
URL:https://levittown.librarycalendar.com/event/patriotic-dog-26378
END:VEVENT
END:VCALENDAR
