BEGIN:VCALENDAR
VERSION:2.0
PRODID:-//Library Market//iCal Export//EN
BEGIN:VEVENT
SUMMARY:AP Exam Cram
UID:26530
DTSTAMP:20260424T010800Z
DTSTART:20260504T150000Z
DTEND:20260504T220000Z
LOCATION:Levittown Public Library, 1 Bluegrass Lane, Levittown, NY 11756, 
 United States
ROOM: Teen Round Room
DESCRIPTION:Our Teen Room will have space for quiet study.
URL:https://levittown.librarycalendar.com/event/ap-exam-cram-26530
END:VEVENT
END:VCALENDAR
