BEGIN:VCALENDAR
VERSION:2.0
PRODID:-//Library Market//iCal Export//EN
BEGIN:VEVENT
SUMMARY:All Together Now (Session 2)
UID:26592
DTSTAMP:20260425T230900Z
DTSTART:20260518T150000Z
DTEND:20260518T154500Z
LOCATION:Levittown Public Library, 1 Bluegrass Lane, Levittown, NY 11756, 
 United States
ROOM: Story Time Room
DESCRIPTION:19 months-3.5 years old, with one adult.Mondays, May 11 &amp; 
 18, 11:00 AM.Click here to register for the 10:00 AM Session instead.Regis
 tration begins Monday, May 4, 12:00 PM.The perfect storytime for families 
 with children close in age. Enjoy stories, music, and fun together.
URL:https://levittown.librarycalendar.com/event/all-together-now-session-2
 -26592
END:VEVENT
END:VCALENDAR
