BEGIN:VCALENDAR
VERSION:2.0
PRODID:-//Library Market//iCal Export//EN
BEGIN:VEVENT
SUMMARY:All Together Now (Session 1)
UID:26596
DTSTAMP:20260425T191300Z
DTSTART:20260608T140000Z
DTEND:20260608T144500Z
LOCATION:Levittown Public Library, 1 Bluegrass Lane, Levittown, NY 11756, 
 United States
ROOM: Story Time Room
DESCRIPTION:19 months-3.5 years old, with one adult.Mondays, June 1 &amp; 
 8, 10:00 AM.Click here to register for the 11:00 AM Session instead.Regist
 ration begins Tuesday, May 26, 12:00 PM.The perfect storytime for families
  with children close in age. Enjoy stories, music, and fun together.
URL:https://levittown.librarycalendar.com/event/all-together-now-session-1
 -26596
END:VEVENT
END:VCALENDAR
