BEGIN:VCALENDAR
VERSION:2.0
PRODID:-//Library Market//iCal Export//EN
BEGIN:VEVENT
SUMMARY:Passport
UID:27006
DTSTAMP:20260422T230800Z
DTSTART:20260420T220000Z
DTEND:20260420T233000Z
LOCATION:Levittown Public Library, 1 Bluegrass Lane, Levittown, NY 11756, 
 United States
ROOM: Government Documents
DESCRIPTION:
URL:https://levittown.librarycalendar.com/event/passport-27006
END:VEVENT
END:VCALENDAR
