BEGIN:VCALENDAR
VERSION:2.0
PRODID:-//Library Market//iCal Export//EN
BEGIN:VEVENT
SUMMARY:Hackers: A Cybersecurity Game
UID:27014
DTSTAMP:20260419T124600Z
DTSTART:20260608T220000Z
DTEND:20260608T230000Z
LOCATION:Levittown Public Library, 1 Bluegrass Lane, Levittown, NY 11756, 
 United States
ROOM: Rooms 1 &amp; 2
DESCRIPTION:Learn about hackers and how to protect yourself online.
URL:https://levittown.librarycalendar.com/event/hackers-cybersecurity-game
 -27014
END:VEVENT
END:VCALENDAR
